BEGIN:VCALENDAR
VERSION:2.0
PRODID:SchoolNow
CALSCALE:GREGORIAN
BEGIN:VEVENT
UID:d9eeb3ba-3834-11f1-8b34-0affcb035dbd
DTSTAMP:20260420T150007Z
SUMMARY:HGS 5th Grade Wing Masters Assembly
URL;VALUE=URI:https://www.sau81.org/hgs/calendar/8993947/hgs-5th-grade-wing
 -masters-assembly
DTSTART;VALUE=DATE:20260528
DTEND;VALUE=DATE:20260529
END:VEVENT
END:VCALENDAR
