BEGIN:VCALENDAR
VERSION:2.0
PRODID:SchoolNow
CALSCALE:GREGORIAN
BEGIN:VEVENT
UID:68c8eef0-214e-11f1-88b0-02e77d0ca0f7
DTSTAMP:20260420T150007Z
SUMMARY:HGS 5th Grade to HMS to see Beauty and the Beast
URL;VALUE=URI:https://www.sau81.org/hgs/calendar/8922823/hgs-5th-grade-to-h
 ms-to-see-beauty-and-the-beast
DTSTART:20260409T125000Z
DTEND:20260409T150000Z
END:VEVENT
END:VCALENDAR
