BEGIN:VCALENDAR
VERSION:2.0
PRODID:SchoolNow
CALSCALE:GREGORIAN
BEGIN:VEVENT
UID:68c8edb0-214e-11f1-811d-02e77d0ca0f7
DTSTAMP:20260420T150007Z
SUMMARY:HGS 5th Grade NHSAS Science Testing
URL;VALUE=URI:https://www.sau81.org/hgs/calendar/8922822/hgs-5th-grade-nhsa
 s-science-testing
DTSTART;VALUE=DATE:20260420
DTEND;VALUE=DATE:20260425
END:VEVENT
END:VCALENDAR
