BEGIN:VCALENDAR
VERSION:2.0
PRODID:SchoolNow
CALSCALE:GREGORIAN
BEGIN:VEVENT
UID:68c8ec52-214e-11f1-a27b-02e77d0ca0f7
DTSTAMP:20260420T150007Z
SUMMARY:HGS PTO BINGO Night
URL;VALUE=URI:https://www.sau81.org/hgs/calendar/8922821/hgs-pto-bingo-nigh
 t
DTSTART:20260402T220000Z
DTEND:20260402T233000Z
END:VEVENT
END:VCALENDAR
