BEGIN:VCALENDAR
VERSION:2.0
PRODID:SchoolNow
CALSCALE:GREGORIAN
BEGIN:VEVENT
UID:68c8e766-214e-11f1-b988-02e77d0ca0f7
DTSTAMP:20260420T150007Z
SUMMARY:Wear mismatched socks for World Down Syndrome Day (actual day 3/21)
URL;VALUE=URI:https://www.sau81.org/hgs/calendar/8922820/wear-mismatched-so
 cks-for-world-down-syndrome-day-actual-day-3-21
DTSTART;VALUE=DATE:20260320
DTEND;VALUE=DATE:20260321
END:VEVENT
END:VCALENDAR
