BEGIN:VCALENDAR
VERSION:2.0
PRODID:SchoolNow
CALSCALE:GREGORIAN
BEGIN:VEVENT
UID:dc5a107e-086c-11f1-8111-0affd9fd291d
DTSTAMP:20260420T150007Z
SUMMARY:HGS Night UMass Lowell Hockey Game
URL;VALUE=URI:https://www.sau81.org/hgs/calendar/8854628/hgs-night-umass-lo
 well-hockey-game
DTSTART:20260307T230000Z
DTEND:20260308T020000Z
END:VEVENT
END:VCALENDAR
