BEGIN:VCALENDAR
VERSION:2.0
PRODID:SchoolNow
CALSCALE:GREGORIAN
BEGIN:VEVENT
UID:dc5a0bb0-086c-11f1-b359-0affd9fd291d
DTSTAMP:20260420T150007Z
SUMMARY:HGS PTO Meeting
URL;VALUE=URI:https://www.sau81.org/hgs/calendar/8854627/hgs-pto-meeting
DTSTART:20260304T230000Z
DTEND:20260305T000000Z
END:VEVENT
END:VCALENDAR
