BEGIN:VCALENDAR
VERSION:2.0
PRODID:SchoolNow
CALSCALE:GREGORIAN
BEGIN:VEVENT
UID:dc5a0656-086c-11f1-b2a0-0affd9fd291d
DTSTAMP:20260420T150007Z
SUMMARY:HGS PTO Book Fair Begins
URL;VALUE=URI:https://www.sau81.org/hgs/calendar/8854626/hgs-pto-book-fair-
 begins
DTSTART;VALUE=DATE:20260331
DTEND;VALUE=DATE:20260401
END:VEVENT
END:VCALENDAR
