BEGIN:VCALENDAR
VERSION:2.0
PRODID:SchoolNow
CALSCALE:GREGORIAN
BEGIN:VEVENT
UID:159fa980-fe12-11f0-ba7f-0200709bc86f
DTSTAMP:20260420T210508Z
SUMMARY:HGS Kindnessgrams delivered
URL;VALUE=URI:https://www.sau81.org/hgs/calendar/8847120/hgs-kindnessgrams-
 delivered
DTSTART;VALUE=DATE:20260213
DTEND;VALUE=DATE:20260214
END:VEVENT
END:VCALENDAR
