BEGIN:VCALENDAR
VERSION:2.0
PRODID:SchoolNow
CALSCALE:GREGORIAN
BEGIN:VEVENT
UID:159fa5e8-fe12-11f0-aa41-0200709bc86f
DTSTAMP:20260420T210508Z
SUMMARY:HGS Ski Club Begin
URL;VALUE=URI:https://www.sau81.org/hgs/calendar/8847118/hgs-ski-club-begin
DTSTART;VALUE=DATE:20260220
DTEND;VALUE=DATE:20260221
END:VEVENT
END:VCALENDAR
