BEGIN:VCALENDAR
VERSION:2.0
PRODID:SchoolNow
CALSCALE:GREGORIAN
BEGIN:VEVENT
UID:159fa49e-fe12-11f0-9740-0200709bc86f
DTSTAMP:20260420T150007Z
SUMMARY:HGS wear Red/White/Pink
URL;VALUE=URI:https://www.sau81.org/hgs/calendar/8847117/hgs-wear-red-white
 -pink
DTSTART;VALUE=DATE:20260213
DTEND;VALUE=DATE:20260214
END:VEVENT
END:VCALENDAR
