BEGIN:VCALENDAR
VERSION:2.0
PRODID:SchoolNow
CALSCALE:GREGORIAN
BEGIN:VEVENT
UID:159fa3ae-fe12-11f0-a377-0200709bc86f
DTSTAMP:20260420T210508Z
SUMMARY:HGS 5th Grade vs. Staff Basketball Game
URL;VALUE=URI:https://www.sau81.org/hgs/calendar/8847116/hgs-5th-grade-vs-s
 taff-basketball-game
DTSTART;VALUE=DATE:20260220
DTEND;VALUE=DATE:20260221
END:VEVENT
END:VCALENDAR
