BEGIN:VCALENDAR
VERSION:2.0
PRODID:SchoolNow
CALSCALE:GREGORIAN
BEGIN:VEVENT
UID:159fa246-fe12-11f0-8dcf-0200709bc86f
DTSTAMP:20260420T150007Z
SUMMARY:HGS Disney Day - Wear a hat\, shirt or dress as your favorite chara
 cter
URL;VALUE=URI:https://www.sau81.org/hgs/calendar/8847115/hgs-disney-day-wea
 r-a-hat-shirt-or-dress-as-your-favorite-character
DTSTART;VALUE=DATE:20260220
DTEND;VALUE=DATE:20260221
END:VEVENT
END:VCALENDAR
