BEGIN:VCALENDAR
VERSION:2.0
PRODID:SchoolNow
CALSCALE:GREGORIAN
BEGIN:VEVENT
UID:159f9f30-fe12-11f0-a2d6-0200709bc86f
DTSTAMP:20260420T150007Z
SUMMARY:HGS Parent Conference
URL;VALUE=URI:https://www.sau81.org/hgs/calendar/8847113/hgs-parent-confere
 nce
DTSTART:20260212T210000Z
DTEND:20260213T000000Z
END:VEVENT
END:VCALENDAR
