BEGIN:VCALENDAR
VERSION:2.0
PRODID:SchoolNow
CALSCALE:GREGORIAN
BEGIN:VEVENT
UID:159f9df0-fe12-11f0-9461-0200709bc86f
DTSTAMP:20260420T210508Z
SUMMARY:HGS Read Across America Week/Kindness Week
URL;VALUE=URI:https://www.sau81.org/hgs/calendar/8847112/hgs-read-across-am
 erica-week-kindness-week
DTSTART;VALUE=DATE:20260216
DTEND;VALUE=DATE:20260221
END:VEVENT
END:VCALENDAR
