BEGIN:VCALENDAR
VERSION:2.0
PRODID:SchoolNow
CALSCALE:GREGORIAN
BEGIN:VEVENT
UID:159f9a9e-fe12-11f0-9584-0200709bc86f
DTSTAMP:20260420T150007Z
SUMMARY:HGS PTO Meeting
URL;VALUE=URI:https://www.sau81.org/hgs/calendar/8847111/hgs-pto-meeting
DTSTART:20260204T230000Z
DTEND:20260205T000000Z
END:VEVENT
END:VCALENDAR
