BEGIN:VCALENDAR
VERSION:2.0
PRODID:SchoolNow
CALSCALE:GREGORIAN
BEGIN:VEVENT
UID:2f8b2f94-db95-11f0-9958-0ee9c4c3cdbb
DTSTAMP:20260420T210508Z
SUMMARY:HGS Spirit Day Ice Blue and Silver Day (Wear light blue and silver)
URL;VALUE=URI:https://www.sau81.org/hgs/calendar/8825587/hgs-spirit-day-ice
 -blue-and-silver-day-wear-light-blue-and-silver
DTSTART;VALUE=DATE:20260116
DTEND;VALUE=DATE:20260117
END:VEVENT
END:VCALENDAR
