BEGIN:VCALENDAR
VERSION:2.0
PRODID:SchoolNow
CALSCALE:GREGORIAN
BEGIN:VEVENT
UID:2f8b2e2c-db95-11f0-9765-0ee9c4c3cdbb
DTSTAMP:20260420T210508Z
SUMMARY:HGS PTO Meeting
URL;VALUE=URI:https://www.sau81.org/hgs/calendar/8825586/hgs-pto-meeting
DTSTART:20260107T230000Z
DTEND:20260108T000000Z
END:VEVENT
END:VCALENDAR
