BEGIN:VCALENDAR
VERSION:2.0
PRODID:SchoolNow
CALSCALE:GREGORIAN
BEGIN:VEVENT
UID:2f8b2d14-db95-11f0-b7b6-0ee9c4c3cdbb
DTSTAMP:20260420T210508Z
SUMMARY:HGS PTO Roller Kingdom Night
URL;VALUE=URI:https://www.sau81.org/hgs/calendar/8825585/hgs-pto-roller-kin
 gdom-night
DTSTART;VALUE=DATE:20260120
DTEND;VALUE=DATE:20260121
END:VEVENT
END:VCALENDAR
