BEGIN:VCALENDAR
VERSION:2.0
PRODID:SchoolNow
CALSCALE:GREGORIAN
BEGIN:VEVENT
UID:2f8b29fe-db95-11f0-ab81-0ee9c4c3cdbb
DTSTAMP:20260420T210508Z
SUMMARY:HGS Math iReady Testing
URL;VALUE=URI:https://www.sau81.org/hgs/calendar/8825584/hgs-math-iready-te
 sting
DTSTART;VALUE=DATE:20260112
DTEND;VALUE=DATE:20260117
END:VEVENT
END:VCALENDAR
