BEGIN:VCALENDAR
VERSION:2.0
PRODID:SchoolNow
CALSCALE:GREGORIAN
BEGIN:VEVENT
UID:2f8b2788-db95-11f0-ac04-0ee9c4c3cdbb
DTSTAMP:20260420T210508Z
SUMMARY:HGS Spirit Day - Dress Like Your Future Self Day
URL;VALUE=URI:https://www.sau81.org/hgs/calendar/8825583/hgs-spirit-day-dre
 ss-like-your-future-self-day
DTSTART;VALUE=DATE:20260130
DTEND;VALUE=DATE:20260131
END:VEVENT
END:VCALENDAR
