BEGIN:VCALENDAR
VERSION:2.0
PRODID:SchoolNow
CALSCALE:GREGORIAN
BEGIN:VEVENT
UID:2f8b1aea-db95-11f0-a6b4-0ee9c4c3cdbb
DTSTAMP:20260420T210508Z
SUMMARY:HGS Reading iReady Testing
URL;VALUE=URI:https://www.sau81.org/hgs/calendar/8825582/hgs-reading-iready
 -testing
DTSTART;VALUE=DATE:20260105
DTEND;VALUE=DATE:20260110
END:VEVENT
END:VCALENDAR
