BEGIN:VCALENDAR
VERSION:2.0
PRODID:SchoolNow
CALSCALE:GREGORIAN
BEGIN:VEVENT
UID:3b94e938-c975-11f0-8720-029f26ed3209
DTSTAMP:20260420T210508Z
SUMMARY:HGS - Spirit Day (Bling in the Holidays Wear festive bling)
URL;VALUE=URI:https://www.sau81.org/hgs/calendar/8809182/hgs-spirit-day-bli
 ng-in-the-holidays-wear-festive-bling
DTSTART;VALUE=DATE:20251222
DTEND;VALUE=DATE:20251223
END:VEVENT
END:VCALENDAR
