BEGIN:VCALENDAR
VERSION:2.0
PRODID:SchoolNow
CALSCALE:GREGORIAN
BEGIN:VEVENT
UID:3b94e852-c975-11f0-a4de-029f26ed3209
DTSTAMP:20260420T150007Z
SUMMARY:HGS - No School (Spring Break)
URL;VALUE=URI:https://www.sau81.org/hgs/calendar/8809181/hgs-no-school-spri
 ng-break
DTSTART;VALUE=DATE:20260427
DTEND;VALUE=DATE:20260502
END:VEVENT
END:VCALENDAR
