BEGIN:VCALENDAR
VERSION:2.0
PRODID:SchoolNow
CALSCALE:GREGORIAN
BEGIN:VEVENT
UID:3b94e762-c975-11f0-8068-029f26ed3209
DTSTAMP:20260420T210508Z
SUMMARY:HGS - Spirit Day (Pajama Day Wear school appropriate pajamas and no
  slippers)
URL;VALUE=URI:https://www.sau81.org/hgs/calendar/8809180/hgs-spirit-day-paj
 ama-day-wear-school-appropriate-pajamas-and-no-slippers
DTSTART;VALUE=DATE:20251223
DTEND;VALUE=DATE:20251224
END:VEVENT
END:VCALENDAR
