BEGIN:VCALENDAR
VERSION:2.0
PRODID:SchoolNow
CALSCALE:GREGORIAN
BEGIN:VEVENT
UID:3b94e578-c975-11f0-a66e-029f26ed3209
DTSTAMP:20260420T210508Z
SUMMARY:HGS - No School (MLK/Civil Rights Day)
URL;VALUE=URI:https://www.sau81.org/hgs/calendar/8809179/hgs-no-school-mlk-
 civil-rights-day
DTSTART;VALUE=DATE:20260119
DTEND;VALUE=DATE:20260120
END:VEVENT
END:VCALENDAR
