BEGIN:VCALENDAR
VERSION:2.0
PRODID:SchoolNow
CALSCALE:GREGORIAN
BEGIN:VEVENT
UID:3b94e334-c975-11f0-8c65-029f26ed3209
DTSTAMP:20260420T210508Z
SUMMARY:HGS - No School (Holiday Break)
URL;VALUE=URI:https://www.sau81.org/hgs/calendar/8809177/hgs-no-school-holi
 day-break
DTSTART;VALUE=DATE:20251224
DTEND;VALUE=DATE:20260103
END:VEVENT
END:VCALENDAR
