BEGIN:VCALENDAR
VERSION:2.0
PRODID:SchoolNow
CALSCALE:GREGORIAN
BEGIN:VEVENT
UID:3b94e230-c975-11f0-8f40-029f26ed3209
DTSTAMP:20260420T150007Z
SUMMARY:HGS - No School (Memorial Day)
URL;VALUE=URI:https://www.sau81.org/hgs/calendar/8809176/hgs-no-school-memo
 rial-day
DTSTART;VALUE=DATE:20260525
DTEND;VALUE=DATE:20260526
END:VEVENT
END:VCALENDAR
