BEGIN:VCALENDAR
VERSION:2.0
PRODID:SchoolNow
CALSCALE:GREGORIAN
BEGIN:VEVENT
UID:3b94e104-c975-11f0-8a12-029f26ed3209
DTSTAMP:20260420T150007Z
SUMMARY:HGS (No School Winter Break)
URL;VALUE=URI:https://www.sau81.org/hgs/calendar/8809175/hgs-no-school-wint
 er-break
DTSTART;VALUE=DATE:20260223
DTEND;VALUE=DATE:20260228
END:VEVENT
END:VCALENDAR
