BEGIN:VCALENDAR
VERSION:2.0
PRODID:SchoolNow
CALSCALE:GREGORIAN
BEGIN:VEVENT
UID:3b94d966-c975-11f0-aae2-029f26ed3209
DTSTAMP:20260420T150007Z
SUMMARY:HGS - No School (Teacher Workshop Day)
URL;VALUE=URI:https://www.sau81.org/hgs/calendar/8809170/hgs-no-school-teac
 her-workshop-day
DTSTART;VALUE=DATE:20260310
DTEND;VALUE=DATE:20260311
END:VEVENT
END:VCALENDAR
