BEGIN:VCALENDAR
VERSION:2.0
PRODID:SchoolNow
CALSCALE:GREGORIAN
BEGIN:VEVENT
UID:f87700da-883a-11f0-a4d0-0a58a9feac02
DTSTAMP:20260420T210508Z
SUMMARY:HGS Popcorn Day
URL;VALUE=URI:https://www.sau81.org/hgs/calendar/8571522/hgs-popcorn-day
DTSTART;VALUE=DATE:20260116
DTEND;VALUE=DATE:20260117
END:VEVENT
END:VCALENDAR
