BEGIN:VCALENDAR
VERSION:2.0
PRODID:SchoolNow
CALSCALE:GREGORIAN
BEGIN:VEVENT
UID:ef4141c2-38fe-11f1-8686-0e2cb06fedc5
DTSTAMP:20260419T142545Z
SUMMARY:LSS - New Student Parent Information Night
LOCATION:Library Street School\, 22 Library St\, Hudson\, NH 03051\, USA
URL;VALUE=URI:https://www.sau81.org/elc/calendar/8995992/lss-new-student-pa
 rent-information-night
DTSTART:20260512T213000Z
DTEND:20260512T223000Z
END:VEVENT
END:VCALENDAR
