BEGIN:VCALENDAR
VERSION:2.0
PRODID:SchoolNow
CALSCALE:GREGORIAN
BEGIN:VEVENT
UID:736927e0-2c74-11f1-b919-0282e51113d1
DTSTAMP:20260423T033550Z
SUMMARY:ELC - World Autism Acceptance Day - Wear Red
URL;VALUE=URI:https://www.sau81.org/elc/calendar/8958626/elc-world-autism-a
 cceptance-day-wear-red
DTSTART;VALUE=DATE:20260402
DTEND;VALUE=DATE:20260403
END:VEVENT
END:VCALENDAR
