BEGIN:VCALENDAR
VERSION:2.0
PRODID:SchoolNow
CALSCALE:GREGORIAN
BEGIN:VEVENT
UID:a1ff7cc8-22e5-11f1-9828-026abd6d6a95
DTSTAMP:20260419T082050Z
SUMMARY:LSS - Spring Picture Day
LOCATION:Library Street School\, 22 Library St\, Hudson\, NH 03051\, USA
URL;VALUE=URI:https://www.sau81.org/elc/calendar/8928131/lss-spring-picture
 -day
DTSTART;VALUE=DATE:20260401
DTEND;VALUE=DATE:20260402
END:VEVENT
END:VCALENDAR
