BEGIN:VCALENDAR
VERSION:2.0
PRODID:SchoolNow
CALSCALE:GREGORIAN
BEGIN:VEVENT
UID:5ebfa472-221a-11f1-b481-0a58a9feac02
DTSTAMP:20260419T142545Z
SUMMARY:ELC - World Down Syndrome Day - Wear Crazy Socks
URL;VALUE=URI:https://www.sau81.org/elc/calendar/8925606/elc-world-down-syn
 drome-day-wear-crazy-socks
DTSTART;VALUE=DATE:20260320
DTEND;VALUE=DATE:20260321
END:VEVENT
END:VCALENDAR
