BEGIN:VCALENDAR
VERSION:2.0
PRODID:SchoolNow
CALSCALE:GREGORIAN
BEGIN:VEVENT
UID:5c9a4d3e-165b-11f1-a70d-0a58a9feac02
DTSTAMP:20260419T142545Z
SUMMARY:ELC - Build a Reading Buddy (PTO Event)
LOCATION:Dr H.O. Smith School\, 33 School St\, Hudson\, NH 03051\, USA
URL;VALUE=URI:https://www.sau81.org/elc/calendar/8884706/elc-build-a-readin
 g-buddy-pto-event
DTSTART:20260325T200000Z
DTEND:20260325T230000Z
END:VEVENT
END:VCALENDAR
