BEGIN:VCALENDAR
VERSION:2.0
PRODID:SchoolNow
CALSCALE:GREGORIAN
BEGIN:VEVENT
UID:f8ccce38-0c34-11f1-9524-0affc72305bb
DTSTAMP:20260419T142545Z
SUMMARY:ELC - Dress as your favorite book character
URL;VALUE=URI:https://www.sau81.org/elc/calendar/8858003/elc-dress-as-your-
 favorite-book-character
DTSTART;VALUE=DATE:20260306
DTEND;VALUE=DATE:20260307
END:VEVENT
END:VCALENDAR
