BEGIN:VCALENDAR
VERSION:2.0
PRODID:SchoolNow
CALSCALE:GREGORIAN
BEGIN:VEVENT
UID:f8cccc08-0c34-11f1-ae1b-0affc72305bb
DTSTAMP:20260419T142545Z
SUMMARY:ELC - Dress for your dream job
URL;VALUE=URI:https://www.sau81.org/elc/calendar/8858002/elc-dress-for-your
 -dream-job
DTSTART;VALUE=DATE:20260305
DTEND;VALUE=DATE:20260306
END:VEVENT
END:VCALENDAR
