BEGIN:VCALENDAR
VERSION:2.0
PRODID:SchoolNow
CALSCALE:GREGORIAN
BEGIN:VEVENT
UID:f8ccc9a6-0c34-11f1-af83-0affc72305bb
DTSTAMP:20260419T142545Z
SUMMARY:ELC - Wear red\, white and black. Wear your favorite hat!
URL;VALUE=URI:https://www.sau81.org/elc/calendar/8858001/elc-wear-red-white
 -and-black-wear-your-favorite-hat
DTSTART;VALUE=DATE:20260302
DTEND;VALUE=DATE:20260303
END:VEVENT
END:VCALENDAR
