BEGIN:VCALENDAR
VERSION:2.0
PRODID:SchoolNow
CALSCALE:GREGORIAN
BEGIN:VEVENT
UID:f8ccc6ea-0c34-11f1-aed8-0affc72305bb
DTSTAMP:20260419T142545Z
SUMMARY:ELC - Wear a superhero shirt or cape
URL;VALUE=URI:https://www.sau81.org/elc/calendar/8858000/elc-wear-a-superhe
 ro-shirt-or-cape
DTSTART;VALUE=DATE:20260303
DTEND;VALUE=DATE:20260304
END:VEVENT
END:VCALENDAR
