BEGIN:VCALENDAR
VERSION:2.0
PRODID:SchoolNow
CALSCALE:GREGORIAN
BEGIN:VEVENT
UID:f8cc7d3e-0c34-11f1-98ca-0affc72305bb
DTSTAMP:20260419T142545Z
SUMMARY:ELC - Wear your grooviest 70’s outfit
URL;VALUE=URI:https://www.sau81.org/elc/calendar/8857999/elc-wear-your-groo
 viest-70-s-outfit
DTSTART;VALUE=DATE:20260304
DTEND;VALUE=DATE:20260305
END:VEVENT
END:VCALENDAR
