BEGIN:VCALENDAR
VERSION:2.0
PRODID:SchoolNow
CALSCALE:GREGORIAN
BEGIN:VEVENT
UID:55f42e4e-c711-11f0-8296-029398efc069
DTSTAMP:20260419T142545Z
SUMMARY:ELC - Spring Break (No school)
URL;VALUE=URI:https://www.sau81.org/elc/calendar/8807545/elc-spring-break-n
 o-school
DTSTART;VALUE=DATE:20260501
DTEND;VALUE=DATE:20260502
END:VEVENT
END:VCALENDAR
