BEGIN:VCALENDAR
VERSION:2.0
PRODID:SchoolNow
CALSCALE:GREGORIAN
BEGIN:VEVENT
UID:55f42bec-c711-11f0-8a88-029398efc069
DTSTAMP:20260419T082050Z
SUMMARY:ELC - Spring Break (No school)
URL;VALUE=URI:https://www.sau81.org/elc/calendar/8807543/elc-spring-break-n
 o-school
DTSTART;VALUE=DATE:20260429
DTEND;VALUE=DATE:20260430
END:VEVENT
END:VCALENDAR
