BEGIN:VCALENDAR
VERSION:2.0
PRODID:SchoolNow
CALSCALE:GREGORIAN
BEGIN:VEVENT
UID:55f42af2-c711-11f0-876f-029398efc069
DTSTAMP:20260419T082050Z
SUMMARY:ELC - Spring Break (No school)
URL;VALUE=URI:https://www.sau81.org/elc/calendar/8807542/elc-spring-break-n
 o-school
DTSTART;VALUE=DATE:20260428
DTEND;VALUE=DATE:20260429
END:VEVENT
END:VCALENDAR
