BEGIN:VCALENDAR
VERSION:2.0
PRODID:SchoolNow
CALSCALE:GREGORIAN
BEGIN:VEVENT
UID:55f41efe-c711-11f0-9c7c-029398efc069
DTSTAMP:20260419T142545Z
SUMMARY:ELC - Teacher Workshop (No school for students)
URL;VALUE=URI:https://www.sau81.org/elc/calendar/8807534/elc-teacher-worksh
 op-no-school-for-students
DTSTART;VALUE=DATE:20260310
DTEND;VALUE=DATE:20260311
END:VEVENT
END:VCALENDAR
