BEGIN:VCALENDAR
VERSION:2.0
PRODID:SchoolNow
CALSCALE:GREGORIAN
BEGIN:VEVENT
UID:55f41a76-c711-11f0-bcc1-029398efc069
DTSTAMP:20260419T142545Z
SUMMARY:ELC - Last Day for students - Early release at 12:30pm
URL;VALUE=URI:https://www.sau81.org/elc/calendar/8807533/elc-last-day-for-s
 tudents-early-release-at-12-30pm
DTSTART;VALUE=DATE:20260616
DTEND;VALUE=DATE:20260617
END:VEVENT
END:VCALENDAR
