BEGIN:VCALENDAR
VERSION:2.0
PRODID:SchoolNow
CALSCALE:GREGORIAN
BEGIN:VEVENT
UID:64fac744-c645-11f0-b2ac-0e6d9029d573
DTSTAMP:20260419T142545Z
SUMMARY:ELC - Early Release for students (Teacher Workshop PM)
URL;VALUE=URI:https://www.sau81.org/elc/calendar/8805846/elc-early-release-
 for-students-teacher-workshop-pm
DTSTART:20260209T135000Z
DTEND:20260209T173000Z
END:VEVENT
END:VCALENDAR
