BEGIN:VCALENDAR
VERSION:2.0
PRODID:SchoolNow
CALSCALE:GREGORIAN
BEGIN:VEVENT
UID:f1bc8686-bb50-11f0-9681-02be637913b5
DTSTAMP:20260419T142545Z
SUMMARY:ELC - Holiday Break (No School)
URL;VALUE=URI:https://www.sau81.org/elc/calendar/8781592/elc-holiday-break-
 no-school
DTSTART;VALUE=DATE:20260102
DTEND;VALUE=DATE:20260103
END:VEVENT
END:VCALENDAR
