BEGIN:VCALENDAR
VERSION:2.0
PRODID:SchoolNow
CALSCALE:GREGORIAN
BEGIN:VEVENT
UID:f1bc7c18-bb50-11f0-8aed-02be637913b5
DTSTAMP:20260419T142545Z
SUMMARY:ELC - Martin Luther King Jr./Civil Rights Day (No School)
URL;VALUE=URI:https://www.sau81.org/elc/calendar/8781583/elc-martin-luther-
 king-jr-civil-rights-day-no-school
DTSTART;VALUE=DATE:20260119
DTEND;VALUE=DATE:20260120
END:VEVENT
END:VCALENDAR
