BEGIN:VCALENDAR
VERSION:2.0
PRODID:SchoolNow
CALSCALE:GREGORIAN
BEGIN:VEVENT
UID:f722523a-ba84-11f0-a987-0a58a9feac02
DTSTAMP:20260419T082050Z
SUMMARY:ELC - Popcorn Day
URL;VALUE=URI:https://www.sau81.org/elc/calendar/8779566/elc-popcorn-day
DTSTART;VALUE=DATE:20260409
DTEND;VALUE=DATE:20260410
END:VEVENT
END:VCALENDAR
